BEGIN:VCALENDAR
VERSION:2.0
PRODID:-//Eventin//Event Calendar//EN
CALSCALE:GREGORIAN
METHOD:PUBLISH
BEGIN:VEVENT
UID:0c0d8251469ec0104f1a9e1ad7eea5c5@domdemarcos.com
SUMMARY:MAY TRIVIA at DOM'S
DESCRIPTION:Dom’s Trivia Nights in May are the 5th\, 12th\, 19th\, and 28
 th from 6:30pm to 8:30pm each event date. Register by texting your team nam
 e to (702) 670-0012 and the number of players on the team. Minimum 2 player
 s\, maximum 6 players. Hosted by Tommy Canale of Stardust Trivia.\nWinning 
 team receives a pizza party at Dom DeMarco's.\nA minimum food/beverage purc
 hase of $10 per player is required to participate. We look forward to seein
 g you.
LOCATION:9785 W. Charleston Blvd. Las Vegas\, NV 89117
DTSTAMP:20260419T161821Z
DTSTART:20260529T013000Z
DTEND:20260529T033000Z
END:VEVENT
END:VCALENDAR
