BEGIN:VCALENDAR
VERSION:2.0
PRODID:-//Eventin//Event Calendar//EN
CALSCALE:GREGORIAN
METHOD:PUBLISH
BEGIN:VEVENT
UID:c27ef859180d5b086b22a7a391cdf6cf@domdemarcos.com
SUMMARY:APRIL TRIVIA at DOM'S
DESCRIPTION:Dom’s Trivia Nights in April are the 9th\, 14th\, 23rd\, 28th
 \, and 30th from 6:30pm to 8:30pm each event date. Register by texting your
  team name to (702) 670-0012 and the number of players on the team. Minimum
  2 players\, maximum 6 players. Hosted by Tommy Canale of Stardust Trivia.\
 nWinning team receives a pizza party at Dom DeMarco's.\nFood purchase requi
 red to participate. We look forward to seeing you.
LOCATION:April Trivia at Dom's
DTSTAMP:20260419T154442Z
DTSTART:20260501T013000Z
DTEND:20260501T033000Z
END:VEVENT
END:VCALENDAR
